BEGIN:VCALENDAR
PRODID:-//github.com/rianjs/ical.net//NONSGML ical.net 4.0//EN
VERSION:2.0
BEGIN:VEVENT
DESCRIPTION:Details:\nhttps://bbyo.org/bbyo-near-you/regions/eastern-regio
 n/charleston/charleston-bbyo-s-beach-bash-kickoff-2023
DTEND:20231001T190000
DTSTAMP:20260421T090529Z
DTSTART:20231001T160000
LOCATION:Sullivans Island South Carolina
SEQUENCE:0
SUMMARY:Charleston BBYO's Beach Bash Kickoff 2023
UID:e5c922c8-0d19-4b67-a4a4-58847bf756f1
END:VEVENT
END:VCALENDAR
