BEGIN:VCALENDAR
PRODID:-//github.com/rianjs/ical.net//NONSGML ical.net 4.0//EN
VERSION:2.0
BEGIN:VEVENT
DESCRIPTION:Details:\nhttps://bbyo.org/bbyo-near-you/regions/north-texas-o
 klahoma-region/nto-bbyo-parent-meeting
DTEND:20220921T200000
DTSTAMP:20260419T122837Z
DTSTART:20220921T183000
LOCATION:Dallas Texas
SEQUENCE:0
SUMMARY:NTO BBYO Parent Meeting
UID:4ec2ecbf-86a1-49ac-8414-568469606864
END:VEVENT
END:VCALENDAR
