BEGIN:VCALENDAR
PRODID:-//github.com/rianjs/ical.net//NONSGML ical.net 4.0//EN
VERSION:2.0
BEGIN:VEVENT
DESCRIPTION:Details:\nhttps://bbyo.org/bbyo-near-you/regions/rocky-mountai
 n-region/emanuel-teen-leader-meeting
DTEND:20211007T203000
DTSTAMP:20260425T235251Z
DTSTART:20211007T190000
LOCATION:Zoom
SEQUENCE:0
SUMMARY:Emanuel Teen Leader Meeting
UID:5ef8c8d8-20d0-468c-8935-a3878c2c1bbf
END:VEVENT
END:VCALENDAR
