BEGIN:VCALENDAR
PRODID:-//github.com/rianjs/ical.net//NONSGML ical.net 4.0//EN
VERSION:2.0
BEGIN:VEVENT
DESCRIPTION:Details:\nhttps://bbyo.org/bbyo-near-you/regions/big-apple-reg
 ion/project-hope-chanukah-2005
DTEND:20051218T170000
DTSTAMP:20260421T221010Z
DTSTART:20051218T090000
LOCATION:
SEQUENCE:0
SUMMARY:Project HOPE - Chanukah 2005
UID:c7d35cf6-dabe-49be-9e30-3a7d5c7da935
END:VEVENT
END:VCALENDAR
