BEGIN:VCALENDAR
PRODID:-//github.com/rianjs/ical.net//NONSGML ical.net 4.0//EN
VERSION:2.0
BEGIN:VEVENT
DESCRIPTION:Details:\nhttps://bbyo.org/bbyo-near-you/regions/rocky-mountai
 n-region/pi-day-denver-chapter-meetings\n\nSummary:\nTHIS IS NO ORDINARY 
 DENVER CHAPTER MEETINGS! COME HANG OUT WITH YOUR FRIENDS TO EAT PIE AND T
 O PIE YOUR FAVORITE (OR LEAST FAVORITE) REGIONAL BOARD MEMBER AND REGIONA
 L STAFF\n	PIE: $3 a slic
DTEND:20170314T210000
DTSTAMP:20260423T225022Z
DTSTART:20170314T190000
LOCATION:Denver JCC
SEQUENCE:0
SUMMARY:Pi Day Denver Chapter Meetings
UID:38bab626-6dd9-4bcf-9124-4142a1a685b5
END:VEVENT
END:VCALENDAR
