BEGIN:VCALENDAR
PRODID:-//github.com/rianjs/ical.net//NONSGML ical.net 4.0//EN
VERSION:2.0
BEGIN:VEVENT
DESCRIPTION:Details:\nhttps://bbyo.org/bbyo-near-you/regions/nassau-suffol
 k-region/nsr-glow-up-kickoff-dance-2016-(5005)\n\nSummary:\nJoin us for N
 SR's Kickoff "Glow Up" Dance!\nCost is $30 in advance\, $35 at the door -
  save money by signing up now!\n\nCome dressed in black and join your fri
 ends for a night of dancing\, foo
DTEND:20161008T230000
DTSTAMP:20260420T100511Z
DTSTART:20161008T200000
LOCATION:LI Sports Hub
SEQUENCE:0
SUMMARY:NSR Glow Up Kickoff Dance 2016 (5005)
UID:f4214fee-57d8-4468-a0f9-564b219a4173
END:VEVENT
END:VCALENDAR
