BEGIN:VCALENDAR
PRODID:-//github.com/rianjs/ical.net//NONSGML ical.net 4.0//EN
VERSION:2.0
BEGIN:VEVENT
DESCRIPTION:Details:\nhttps://bbyo.org/bbyo-near-you/regions/manhattan-reg
 ion/bbyo-manhattan-summer-rooftop-party
DTEND:20170611T000100
DTSTAMP:20260420T180848Z
DTSTART;VALUE=DATE:20170611
LOCATION:
SEQUENCE:0
SUMMARY:BBYO Manhattan - Summer Rooftop Party
UID:effef282-d0bc-440b-b4ee-1d879444bd62
END:VEVENT
END:VCALENDAR
