BEGIN:VCALENDAR
PRODID:-//github.com/rianjs/ical.net//NONSGML ical.net 4.0//EN
VERSION:2.0
BEGIN:VEVENT
DESCRIPTION:Details:\nhttps://bbyo.org/bbyo-near-you/regions/wisconsin-reg
 ion/wi-oneg-1-15-16
DTEND;VALUE=DATE:20160115
DTSTAMP:20260424T215550Z
DTSTART;VALUE=DATE:20160115
LOCATION:
SEQUENCE:0
SUMMARY:WI - Oneg 1.15.16
UID:3ab30af2-56a8-432f-a66d-bb8587ddbf04
END:VEVENT
END:VCALENDAR
