BEGIN:VCALENDAR
PRODID:-//github.com/rianjs/ical.net//NONSGML ical.net 4.0//EN
VERSION:2.0
BEGIN:VEVENT
DESCRIPTION:Details:\nhttps://bbyo.org/bbyo-near-you/regions/nassau-suffol
 k-region/nsr-new-member-overnight-spring-convention-2016\n\nSummary:\nEar
 ly-bird special of $398 ends April 4\, 2016.\nFrom April 5\, 2015 regular
  convention fee will be $414.\nCancellation policy: Absolutely no refunds
  will be made after May 5\, 2016.\n\n
DTEND:20160522T170000
DTSTAMP:20260425T182704Z
DTSTART:20160519T160000
LOCATION:Hudson Valley Resort and Spa
SEQUENCE:0
SUMMARY:NSR New Member Overnight & Spring Convention 2016 (PC 3030)
UID:8c265c63-02ca-4f65-b8db-c80c92e9da0c
END:VEVENT
END:VCALENDAR
