BEGIN:VCALENDAR
PRODID:-//github.com/rianjs/ical.net//NONSGML ical.net 4.0//EN
VERSION:2.0
BEGIN:VEVENT
DESCRIPTION:Details:\nhttps://bbyo.org/bbyo-near-you/regions/manhattan-reg
 ion/new-york-city-annual-yacht-party-2024!
DTEND:20240928T230000
DTSTAMP:20260423T115125Z
DTSTART:20240928T200000
LOCATION:
SEQUENCE:0
SUMMARY:New York City Annual Yacht Party 2024!
UID:1429019a-5ee0-43ba-b536-f17d81e81003
END:VEVENT
END:VCALENDAR
