BEGIN:VCALENDAR
PRODID:-//github.com/rianjs/ical.net//NONSGML ical.net 4.0//EN
VERSION:2.0
BEGIN:VEVENT
DESCRIPTION:Details:\nhttps://bbyo.org/bbyo-near-you/regions/lonestar-regi
 on/houston-bbyo-ic-2024-launch-party
DTEND:20230928T203000
DTSTAMP:20260423T201125Z
DTSTART:20230928T183000
LOCATION:Houston Texas
SEQUENCE:0
SUMMARY:Houston BBYO IC 2024 Launch Party
UID:14443ab7-6538-4f45-87db-4bdafa1689c8
END:VEVENT
END:VCALENDAR
