BEGIN:VCALENDAR
PRODID:-//github.com/rianjs/ical.net//NONSGML ical.net 4.0//EN
VERSION:2.0
BEGIN:VEVENT
DESCRIPTION:Details:\nhttps://bbyo.org/bbyo-near-you/regions/northern-regi
 on-east-northern-virginia-council/chapter-officer-training-(cot)\n\nSumma
 ry:\nIf you are a chapter officer\, this day is for you! Come learn every
 thing you need to know about leadership and your position! We will be cal
 endarizing the rest of the fall term\, working with
DTEND:20060917T180000
DTSTAMP:20260421T223737Z
DTSTART:20060917T160000
LOCATION:Adat Reyim
SEQUENCE:0
SUMMARY:Chapter Officer Training (COT)
UID:b1270975-330a-4e8e-8ca1-712825d44f85
END:VEVENT
END:VCALENDAR
