BEGIN:VCALENDAR
PRODID:-//github.com/rianjs/ical.net//NONSGML ical.net 4.0//EN
VERSION:2.0
BEGIN:VEVENT
DESCRIPTION:Details:\nhttps://bbyo.org/bbyo-near-you/regions/wisconsin-reg
 ion/wi-chapter-meetings-10-31-16
DTEND;VALUE=DATE:20161031
DTSTAMP:20260424T102022Z
DTSTART;VALUE=DATE:20161031
LOCATION:
SEQUENCE:0
SUMMARY:WI - Chapter Meetings 10.31.16
UID:c3778945-e1dc-4248-a6d3-495dc8d74b8c
END:VEVENT
END:VCALENDAR
