BEGIN:VCALENDAR
PRODID:-//github.com/rianjs/ical.net//NONSGML ical.net 4.0//EN
VERSION:2.0
BEGIN:VEVENT
DESCRIPTION:Details:\nhttps://bbyo.org/bbyo-near-you/regions/northern-regi
 on-east-dc-council/monday-meet-up-(2)
DTEND:20211025T200000
DTSTAMP:20260421T083610Z
DTSTART:20211025T190000
LOCATION:Bender JCC
SEQUENCE:0
SUMMARY:Monday Meet-Up
UID:e344f2f2-1a59-425a-9446-ce7f91de28b1
END:VEVENT
END:VCALENDAR
