BEGIN:VCALENDAR
PRODID:-//github.com/rianjs/ical.net//NONSGML ical.net 4.0//EN
VERSION:2.0
BEGIN:VEVENT
DESCRIPTION:Details:\nhttps://bbyo.org/bbyo-near-you/regions/south-jersey-
 region/sjr-rlti-2016-find-your-voice-(pc3000)\n\nSummary:\nGet ready for 
 Regional Leadership Training Institute (RLTI)! It is going to be an amazi
 ng weekend filled with learning leadership skills on a Board standpoint a
 s well as skills for any situa
DTEND:20161016T123000
DTSTAMP:20260423T200259Z
DTSTART:20161014T163000
LOCATION:Camp Ockanickon
SEQUENCE:0
SUMMARY:SJR - RLTI 2016 - Find Your Voice (PC3000)
UID:dff50679-ea38-4c6a-a0ed-2658c4884e7a
END:VEVENT
END:VCALENDAR
