BEGIN:VCALENDAR
PRODID:-//github.com/rianjs/ical.net//NONSGML ical.net 4.0//EN
VERSION:2.0
BEGIN:VEVENT
DESCRIPTION:Details:\nhttps://bbyo.org/bbyo-near-you/regions/south-jersey-
 region/mlk-day-on-of-service\n\nSummary:\nPlease join us for a meaningful
  day of hands-on community service projects working with teens with speci
 al needs.Please join us for a meaningful day of hands-on community servic
 e projects working with teens with special needs.\n\nCost: 2 kosher\, non
 -perishable food items
DTEND:20180115T000100
DTSTAMP:20260426T030755Z
DTSTART;VALUE=DATE:20180115
LOCATION:Cherry Hill New Jersey
SEQUENCE:0
SUMMARY:MLK Day ON of Service
UID:c3e0b0e7-ab7a-4fae-b3c2-d214ecd720ba
END:VEVENT
END:VCALENDAR
