BEGIN:VCALENDAR
PRODID:-//github.com/rianjs/ical.net//NONSGML ical.net 4.0//EN
VERSION:2.0
BEGIN:VEVENT
DESCRIPTION:Details:\nhttps://bbyo.org/bbyo-near-you/regions/hudson-valley
 -region/hvr-kickoff-at-adventureland-2019\n\nSummary:\nGet ready for New 
 York's second annual interregional Kickoff! Teens from NSR\, BAR\, Manhat
 tan\, and HVR will join together for an evening of fun and thrills at Adv
 entureland\, on Long Island.\n\n
DTEND:20191012T235900
DTSTAMP:20260422T113306Z
DTSTART:20191012T181500
LOCATION:Farmingdale New York
SEQUENCE:0
SUMMARY:HVR Kickoff at Adventureland 2019
UID:ea5b1ccb-6e39-4fdb-8a95-b0254d4e399e
END:VEVENT
END:VCALENDAR
