BEGIN:VCALENDAR
PRODID:-//github.com/rianjs/ical.net//NONSGML ical.net 4.0//EN
VERSION:2.0
BEGIN:VEVENT
DESCRIPTION:Details:\nhttps://bbyo.org/bbyo-near-you/regions/new-england-r
 egion/newton-bbyo-week-johnny-s-luncheonette-(event-2\n\nSummary:\nThis r
 egistration page is for Event #2 for Newton BBYO Week!Tuesday\, August 30
 \, 7 - 8:30 pm\, Johnny's Luncheonette\, Newton\, MA (Dinner included in 
 cost). Teens who attend this event
DTEND:20160830T203000
DTSTAMP:20260425T235514Z
DTSTART:20160830T190000
LOCATION:Johnny's Luncheonette
SEQUENCE:0
SUMMARY:Newton BBYO Week - Johnny's Luncheonette (Event #2)
UID:3bff9973-4d9b-4f41-832f-1cee7384591f
END:VEVENT
END:VCALENDAR
