BEGIN:VCALENDAR
PRODID:-//github.com/rianjs/ical.net//NONSGML ical.net 4.0//EN
VERSION:2.0
BEGIN:VEVENT
DESCRIPTION:Details:\nhttps://bbyo.org/bbyo-near-you/regions/gold-coast-re
 gion/j-serve-2019
DTEND:20190414T153000
DTSTAMP:20260422T054800Z
DTSTART:20190413T110000
LOCATION:Davie Florida
SEQUENCE:0
SUMMARY:J-Serve 2019
UID:4e0c9975-8887-4145-bb82-12eb9522ed72
END:VEVENT
END:VCALENDAR
