BEGIN:VCALENDAR
PRODID:-//github.com/rianjs/ical.net//NONSGML ical.net 4.0//EN
VERSION:2.0
BEGIN:VEVENT
DESCRIPTION:Details:\nhttps://bbyo.org/bbyo-near-you/regions/north-florida
 -region/space-coast-bbyo-planning-and-movie-night\n\nSummary:\nCalling al
 l Melbourne Jewish Teens!\nWant to be a part of history? \nWant to leave 
 a legacy while you are still in \nhigh school?\n\nJoin us to chart out sp
 ring term for Space Coast BBYO. Yo
DTEND:20160507T210000
DTSTAMP:20260423T201420Z
DTSTART:20160507T180000
LOCATION:The Epicenter
SEQUENCE:0
SUMMARY:Space Coast BBYO Planning and Movie Night
UID:566276b1-274f-4810-9756-d5576f52bbf4
END:VEVENT
END:VCALENDAR
