BEGIN:VCALENDAR
PRODID:-//github.com/rianjs/ical.net//NONSGML ical.net 4.0//EN
VERSION:2.0
BEGIN:VEVENT
DESCRIPTION:Details:\nhttps://bbyo.org/bbyo-near-you/regions/delta-region/
 memphis-fall-con-bus-transportation
DTEND:20231021T110000
DTSTAMP:20260423T132037Z
DTSTART:20231020T140000
LOCATION:Memphis JCC
SEQUENCE:0
SUMMARY:Memphis Fall Con Bus Transportation
UID:9e58c9e3-d4a5-442a-a562-72084e8be6d3
END:VEVENT
END:VCALENDAR
