BEGIN:VCALENDAR
PRODID:-//github.com/rianjs/ical.net//NONSGML ical.net 4.0//EN
VERSION:2.0
BEGIN:VEVENT
DESCRIPTION:Details:\nhttps://bbyo.org/bbyo-near-you/regions/great-midwest
 -region/bbg-board-time
DTEND:20201115T140000
DTSTAMP:20260419T213552Z
DTSTART:20201115T100000
LOCATION:Dani Holstein's House
SEQUENCE:0
SUMMARY:BBG Board Time
UID:dd0cbdd4-9db8-430c-abba-10821e0bba0a
END:VEVENT
END:VCALENDAR
