BEGIN:VCALENDAR
PRODID:-//github.com/rianjs/ical.net//NONSGML ical.net 4.0//EN
VERSION:2.0
BEGIN:VEVENT
DESCRIPTION:Details:\nhttps://bbyo.org/bbyo-near-you/regions/northwest-can
 ada-region/wake-up-breakfast\n\nSummary:\nNew Member Wake UP Initiation f
 or grade nine participants. Takes place every year at the start of the ye
 ar. Older members pick up grade nine kids and provide an introduction to 
 BBYO and a br
DTEND:20061011T100000
DTSTAMP:20260425T235104Z
DTSTART:20061011T050000
LOCATION:
SEQUENCE:0
SUMMARY:Wake Up Breakfast
UID:5c351db9-fda2-4c57-99a1-85df4a599448
END:VEVENT
END:VCALENDAR
