BEGIN:VCALENDAR
PRODID:-//github.com/rianjs/ical.net//NONSGML ical.net 4.0//EN
VERSION:2.0
BEGIN:VEVENT
DESCRIPTION:Details:\nhttps://bbyo.org/bbyo-near-you/regions/hudson-valley
 -region/hvr-regional-business-meeting
DTEND:20230430T160000
DTSTAMP:20260423T002458Z
DTSTART:20230430T150000
LOCATION:JCC of Mid-Westchester
SEQUENCE:0
SUMMARY:HVR Regional Business Meeting
UID:6c3f8cf1-3350-4e78-8c86-5ec44a5856a5
END:VEVENT
END:VCALENDAR
