BEGIN:VCALENDAR
PRODID:-//github.com/rianjs/ical.net//NONSGML ical.net 4.0//EN
VERSION:2.0
BEGIN:VEVENT
DESCRIPTION:Details:\nhttps://bbyo.org/bbyo-near-you/regions/great-midwest
 -region/gmr-src-pc-3020-staff-use-only-(2d)\n\nSummary:\nOur final Region
 al Convention for the year! Fun\, friends\, elections\, say goodbye to yo
 ur favorite seniors\, and help us usher in the new leaders of GMR.
DTEND:20170430T140000
DTSTAMP:20260423T200923Z
DTSTART:20170428T163000
LOCATION:Northbrook Hilton
SEQUENCE:0
SUMMARY:GMR SRC PC 3020 - Staff Use Only  (2d)
UID:d7f06db8-2099-4933-8f89-0846c46d03dc
END:VEVENT
END:VCALENDAR
