BEGIN:VCALENDAR
PRODID:-//github.com/rianjs/ical.net//NONSGML ical.net 4.0//EN
VERSION:2.0
BEGIN:VEVENT
DESCRIPTION:Details:\nhttps://bbyo.org/bbyo-near-you/regions/michigan-regi
 on/ylc-2019-(young-leadership-conference)
DTEND:20190303T160000
DTSTAMP:20260420T231058Z
DTSTART:20190301T090000
LOCATION:Sandusky Ohio
SEQUENCE:0
SUMMARY:YLC 2019 (Young Leadership Conference)
UID:5d10ca6a-dc33-46a7-9d78-0592954903d9
END:VEVENT
END:VCALENDAR
