BEGIN:VCALENDAR
PRODID:-//github.com/rianjs/ical.net//NONSGML ical.net 4.0//EN
VERSION:2.0
BEGIN:VEVENT
DESCRIPTION:Details:\nhttps://bbyo.org/bbyo-near-you/regions/lake-ontario-
 region/in-conversation-with-gershon-willinger\n\nSummary:\nHolocaust surv
 ivor Gershon Willinger will speak about his improbable survival as a Jewi
 sh child born in Holland during World War II. This is a free event\, open
  to the general public and spec
DTEND:20181107T200000
DTSTAMP:20260420T231344Z
DTSTART:20181107T183000
LOCATION:Schwartz/Reisman Centre
SEQUENCE:0
SUMMARY:In Conversation with Gershon Willinger
UID:2d10cc5d-76be-4cc4-870b-c66ff81931bb
END:VEVENT
END:VCALENDAR
