BEGIN:VCALENDAR
PRODID:-//github.com/rianjs/ical.net//NONSGML ical.net 4.0//EN
VERSION:2.0
BEGIN:VEVENT
DESCRIPTION:Details:\nhttps://bbyo.org/bbyo-near-you/regions/northern-regi
 on-east-baltimore-council/fall-chapter-execs
DTEND:20220831T203000
DTSTAMP:20260419T213552Z
DTSTART:20220831T190000
LOCATION:Owings Mills Maryland
SEQUENCE:0
SUMMARY:Fall Chapter Execs
UID:6dd3fc9f-5720-4c2d-821a-1d6e9ea7c061
END:VEVENT
END:VCALENDAR
