BEGIN:VCALENDAR
PRODID:-//github.com/rianjs/ical.net//NONSGML ical.net 4.0//EN
VERSION:2.0
BEGIN:VEVENT
DESCRIPTION:Details:\nhttps://bbyo.org/bbyo-near-you/regions/miami-region/
 voice-your-vote-splitsville!\n\nSummary:\nElection Day - November 8th Fro
 m 6:30pm-8pm\n\nJOIN US for Miami’s election night watch party for Jewish
  teens at Splitsville in Sunset Place\nFeaturing bowling\, pool tables\, 
 food and more!\n
DTEND:20161109T200000
DTSTAMP:20260422T221743Z
DTSTART:20161108T183000
LOCATION:Splitsville Luxury Lanes at Sunset Place
SEQUENCE:0
SUMMARY:Voice Your Vote: Splitsville!
UID:f6ce22e8-7f6c-4994-a3f1-c52107ceca7d
END:VEVENT
END:VCALENDAR
