BEGIN:VCALENDAR
PRODID:-//github.com/rianjs/ical.net//NONSGML ical.net 4.0//EN
VERSION:2.0
BEGIN:VEVENT
DESCRIPTION:Details:\nhttps://bbyo.org/bbyo-near-you/regions/nassau-suffol
 k-region/nsr-presents-j-serve\n\nSummary:\nJoin NSR BBYO for dinner as Je
 wish teens from across Long Island celebrate local community service with
  a variety of speakers from local organizations and hands-on service proj
 ects.
DTEND:20190407T200000
DTSTAMP:20260426T030754Z
DTSTART:20190407T170000
LOCATION:Plainview New York
SEQUENCE:0
SUMMARY:NSR Presents: J-Serve
UID:05deb450-1f82-4254-ac41-7ed30b7cd844
END:VEVENT
END:VCALENDAR
