BEGIN:VCALENDAR
PRODID:-//github.com/rianjs/ical.net//NONSGML ical.net 4.0//EN
VERSION:2.0
BEGIN:VEVENT
DESCRIPTION:Details:\nhttps://bbyo.org/bbyo-near-you/regions/new-england-r
 egion/leadership-series-learn-about-israel-with-standwit\n\nSummary:\nJoi
 n Stephanie Margolis from StandWithUs to learn about Israel and have a di
 scussion around your relationship with Israel. The event will end with Ka
 hoot to test your knowledge around Israel history.
DTEND:20200728T173000
DTSTAMP:20260425T235513Z
DTSTART:20200728T160000
LOCATION:BBYO On Demand
SEQUENCE:0
SUMMARY:Leadership Series: Learn About Israel with StandWithUs
UID:5dd6a907-36ad-4ca1-8815-256e835b7d48
END:VEVENT
END:VCALENDAR
