BEGIN:VCALENDAR
PRODID:-//github.com/rianjs/ical.net//NONSGML ical.net 4.0//EN
VERSION:2.0
BEGIN:VEVENT
DESCRIPTION:Details:\nhttps://bbyo.org/bbyo-near-you/regions/central-regio
 n-west/crw-kickoff-(pc-5000)\n\nSummary:\nCome to CRW's Kickoff Event! It
  is going to be a fun filled evening of games\, dancing\, paddle boating\
 , and much much more!  We can't wait to see you there!
DTEND:20150829T190000
DTSTAMP:20260420T191914Z
DTSTART:20150829T190000
LOCATION:Shoreline Aquatic Center
SEQUENCE:0
SUMMARY:CRW Kickoff (PC 5000)
UID:d853bf31-6180-48fd-84e7-25742b13697c
END:VEVENT
END:VCALENDAR
