BEGIN:VCALENDAR
PRODID:-//github.com/rianjs/ical.net//NONSGML ical.net 4.0//EN
VERSION:2.0
BEGIN:VEVENT
DESCRIPTION:Details:\nhttps://bbyo.org/bbyo-near-you/regions/northern-regi
 on-east-northern-virginia-council/nova-council-ic-stand-up-program\n\nSum
 mary:\nJoin NoVA Council for our StandUP Program all about the environmen
 t. Learn ways to reduce your own waste and understand why sustainability 
 is important to our planet.
DTEND:20210214T180000
DTSTAMP:20260422T101409Z
DTSTART:20210214T160000
LOCATION:
SEQUENCE:0
SUMMARY:NoVA Council IC Stand Up Program
UID:1f80acd0-9fe2-42b0-8b20-8886979b1ec5
END:VEVENT
END:VCALENDAR
