BEGIN:VCALENDAR
PRODID:-//github.com/rianjs/ical.net//NONSGML ical.net 4.0//EN
VERSION:2.0
BEGIN:VEVENT
DESCRIPTION:Details:\nhttps://bbyo.org/bbyo-near-you/regions/gold-coast-re
 gion/pbg-jcc-x-bbyo-camp-visit
DTEND:20240627T120000
DTSTAMP:20260423T002103Z
DTSTART:20240627T110000
LOCATION:PBG JCC
SEQUENCE:0
SUMMARY:PBG JCC x BBYO Camp Visit
UID:590b42f3-f959-449e-853d-c29016f3683c
END:VEVENT
END:VCALENDAR
