BEGIN:VCALENDAR
PRODID:-//github.com/rianjs/ical.net//NONSGML ical.net 4.0//EN
VERSION:2.0
BEGIN:VEVENT
DESCRIPTION:Details:\nhttps://bbyo.org/bbyo-near-you/regions/evergreen-reg
 ion/portland-bbyo-parent-info-night!
DTEND:20231030T200000
DTSTAMP:20260423T115042Z
DTSTART:20231030T183000
LOCATION:Portland Oregon
SEQUENCE:0
SUMMARY:Portland BBYO Parent Info Night!
UID:26b80f9a-986d-4337-a931-87135021f967
END:VEVENT
END:VCALENDAR
