BEGIN:VCALENDAR
PRODID:-//github.com/rianjs/ical.net//NONSGML ical.net 4.0//EN
VERSION:2.0
BEGIN:VEVENT
DESCRIPTION:Details:\nhttps://bbyo.org/bbyo-near-you/regions/mid-america-r
 egion-st-louis-council/st-louis-council-s-ic-launch-party-parent-info-nig
 \n\nSummary:\nJoin SLC for a Texas-sized
DTEND:20190926T203000
DTSTAMP:20260425T235103Z
DTSTART:20190926T183000
LOCATION:Creve Coeur Missouri
SEQUENCE:0
SUMMARY:St. Louis Council's IC Launch Party & Parent Info Night
UID:a22897fa-d8ea-4a49-b1db-e3cec8079b07
END:VEVENT
END:VCALENDAR
