BEGIN:VCALENDAR
PRODID:-//github.com/rianjs/ical.net//NONSGML ical.net 4.0//EN
VERSION:2.0
BEGIN:VEVENT
DESCRIPTION:Details:\nhttps://bbyo.org/bbyo-near-you/regions/international
 -region/cltc-8-(5)\n\nSummary:\nChapter Leadership Training Conference\, 
 CLTC\, is designed for AZA and BBG members who want to learn how to build
  and strengthen their chapter. At CLTC\, teens have fun with peers from a
 cross
DTEND:20160814T090000
DTSTAMP:20260426T030722Z
DTSTART:20160802T090000
LOCATION:Beber Camp
SEQUENCE:0
SUMMARY:CLTC 8
UID:2f544557-b3d3-4118-b8f8-1c9362d8b283
END:VEVENT
END:VCALENDAR
