BEGIN:VCALENDAR
PRODID:-//github.com/rianjs/ical.net//NONSGML ical.net 4.0//EN
VERSION:2.0
BEGIN:VEVENT
DESCRIPTION:Details:\nhttps://bbyo.org/bbyo-near-you/regions/new-england-r
 egion/ner-leadership-training-institute-1-(pc5000)\n\nSummary:\nJoin us f
 or Leadership Training Institute!Teen leaders will begin the day with a g
 roup welcome and learning experience around BBYO's MRIHA Recruitment and 
 Retention Training. The da
DTEND:20160918T170000
DTSTAMP:20260425T194703Z
DTSTART:20160918T094500
LOCATION:JF&CS Waltham
SEQUENCE:0
SUMMARY:NER - Leadership Training Institute #1 - (PC5000)
UID:78a2f636-a784-4df4-a382-6aeee5c2a31c
END:VEVENT
END:VCALENDAR
