BEGIN:VCALENDAR
PRODID:-//github.com/rianjs/ical.net//NONSGML ical.net 4.0//EN
VERSION:2.0
BEGIN:VEVENT
DESCRIPTION:Details:\nhttps://bbyo.org/bbyo-near-you/regions/lonestar-regi
 on/san-antonio-bbyo-intake-night\n\nSummary:\nSan Antonio BBYO will be ho
 sting a new member event this Sunday\, August 26\, from 1- 3 PM at the JC
 C. The event is for any interested Jewish teens that want to learn more a
 bout BBYO
DTEND:20180826T150000
DTSTAMP:20260423T200724Z
DTSTART:20180826T130000
LOCATION:San Antonio Texas
SEQUENCE:0
SUMMARY:San Antonio BBYO Intake Night
UID:8ac4562f-feaa-4ebc-bea1-06662afd8404
END:VEVENT
END:VCALENDAR
