BEGIN:VCALENDAR
PRODID:-//github.com/rianjs/ical.net//NONSGML ical.net 4.0//EN
VERSION:2.0
BEGIN:VEVENT
DESCRIPTION:Details:\nhttps://bbyo.org/bbyo-near-you/regions/north-texas-o
 klahoma-region/tulsa-kickoff
DTEND:20240901T210000
DTSTAMP:20260421T073200Z
DTSTART:20240901T170000
LOCATION:
SEQUENCE:0
SUMMARY:Tulsa Kickoff
UID:1a1174b6-2415-49e9-b107-d3d9674921c1
END:VEVENT
END:VCALENDAR
