BEGIN:VCALENDAR
PRODID:-//github.com/rianjs/ical.net//NONSGML ical.net 4.0//EN
VERSION:2.0
BEGIN:VEVENT
DESCRIPTION:Details:\nhttps://bbyo.org/bbyo-near-you/regions/lake-ontario-
 region/tc-amazing-race-(2)
DTEND:20061022T160000
DTSTAMP:20260422T113404Z
DTSTART:20061022T130000
LOCATION:Toronto Transit System
SEQUENCE:0
SUMMARY:TC Amazing Race
UID:8e67447b-edfa-4bf4-968f-a722fc797d0b
END:VEVENT
END:VCALENDAR
