BEGIN:VCALENDAR
PRODID:-//github.com/rianjs/ical.net//NONSGML ical.net 4.0//EN
VERSION:2.0
BEGIN:VEVENT
DESCRIPTION:Details:\nhttps://bbyo.org/bbyo-near-you/regions/mid-america-r
 egion-kansas-city-council/kc-connect-kick-off-2021\n\nSummary:\nBBYO Conn
 ect Kick off and 8th grade recruitment! First half with 6th and 7th grade
 rs. Second for 8th graders and parents. The participants will be playing 
 get to know you games and parents will have an information session!
DTEND:20210131T170000
DTSTAMP:20260421T010527Z
DTSTART:20210131T150000
LOCATION:Virtual Zoom Event
SEQUENCE:0
SUMMARY:KC Connect Kick Off 2021
UID:8b6f9bba-2c7e-46ec-afd0-007e440181d8
END:VEVENT
END:VCALENDAR
