BEGIN:VCALENDAR
PRODID:-//github.com/rianjs/ical.net//NONSGML ical.net 4.0//EN
VERSION:2.0
BEGIN:VEVENT
DESCRIPTION:Details:\nhttps://bbyo.org/bbyo-near-you/regions/manhattan-reg
 ion/bbyo-manhattan-region-kick-off
DTEND:20171007T000100
DTSTAMP:20260421T111016Z
DTSTART;VALUE=DATE:20171007
LOCATION:
SEQUENCE:0
SUMMARY:BBYO Manhattan Region Kick Off
UID:f788f07c-9eb5-474a-a8dd-db7cb12e56d8
END:VEVENT
END:VCALENDAR
