BEGIN:VCALENDAR
PRODID:-//github.com/rianjs/ical.net//NONSGML ical.net 4.0//EN
VERSION:2.0
BEGIN:VEVENT
DESCRIPTION:Details:\nhttps://bbyo.org/bbyo-near-you/regions/north-texas-o
 klahoma-region/whirly-ball-and-laser-tag-connect-event
DTEND:20180304T000100
DTSTAMP:20260423T095219Z
DTSTART;VALUE=DATE:20180304
LOCATION:
SEQUENCE:0
SUMMARY:Whirly Ball and Laser Tag - Connect Event
UID:33323293-a1b7-4091-8148-5714ebac0350
END:VEVENT
END:VCALENDAR
