BEGIN:VCALENDAR
PRODID:-//github.com/rianjs/ical.net//NONSGML ical.net 4.0//EN
VERSION:2.0
BEGIN:VEVENT
DESCRIPTION:Details:\nhttps://bbyo.org/bbyo-near-you/regions/keystone-moun
 tain-region/chapter-board-positions-information-meeting
DTEND:20240905T210000
DTSTAMP:20260423T203110Z
DTSTART:20240905T200000
LOCATION:
SEQUENCE:0
SUMMARY:Chapter Board Positions Information meeting
UID:852e1a8a-811e-4f43-be5a-5712ca0c6ce0
END:VEVENT
END:VCALENDAR
