BEGIN:VCALENDAR
PRODID:-//github.com/rianjs/ical.net//NONSGML ical.net 4.0//EN
VERSION:2.0
BEGIN:VEVENT
DESCRIPTION:Details:\nhttps://bbyo.org/bbyo-near-you/regions/montreal-regi
 on/parent-in-training-night-(1)\n\nSummary:\nParents\, come learn what BB
 YO is and how it can benefit your teen!  Teens welcome too.
DTEND:20061107T210000
DTSTAMP:20260426T043419Z
DTSTART:20061107T190000
LOCATION:Soloway JCC
SEQUENCE:0
SUMMARY:Parent in Training Night
UID:97dba6e2-d53c-43b4-8c84-56061d3b3fa4
END:VEVENT
END:VCALENDAR
