BEGIN:VCALENDAR
PRODID:-//github.com/rianjs/ical.net//NONSGML ical.net 4.0//EN
VERSION:2.0
BEGIN:VEVENT
DESCRIPTION:Details:\nhttps://bbyo.org/bbyo-near-you/regions/hudson-valley
 -region/dugo-day-with-westchester-shinshinim
DTEND:20240118T203000
DTSTAMP:20260423T062029Z
DTSTART:20240118T190000
LOCATION:Shames JCC
SEQUENCE:0
SUMMARY:Dugo Day with Westchester Shinshinim
UID:9b5514c6-72e4-423e-8792-3d368a1d202f
END:VEVENT
END:VCALENDAR
