BEGIN:VCALENDAR
PRODID:-//github.com/rianjs/ical.net//NONSGML ical.net 4.0//EN
VERSION:2.0
BEGIN:VEVENT
DESCRIPTION:Details:\nhttps://bbyo.org/bbyo-near-you/regions/michigan-regi
 on/aza-regional-meeting-(8)
DTEND:20230320T200000
DTSTAMP:20260423T042531Z
DTSTART:20230320T190000
LOCATION:BBYO Office
SEQUENCE:0
SUMMARY:AZA Regional Meeting
UID:eec73574-cf00-4a64-8592-42486e422ad1
END:VEVENT
END:VCALENDAR
