BEGIN:VCALENDAR
PRODID:-//github.com/rianjs/ical.net//NONSGML ical.net 4.0//EN
VERSION:2.0
BEGIN:VEVENT
DESCRIPTION:Details:\nhttps://bbyo.org/bbyo-near-you/regions/south-jersey-
 region/sjr-ic-apparel\n\nSummary:\nSJR will be wearing new shirts for reg
 ional spirit\, and shirts for Israel day at IC!!! We want to win the SPIR
 IT CUP OR GAVEL and the way to do that is through these fun shirts and ot
 her spi
DTEND:20160215T160000
DTSTAMP:20260425T235207Z
DTSTART:20160211T160000
LOCATION:JCC
SEQUENCE:0
SUMMARY:SJR IC Apparel
UID:667b3767-05e9-4325-a218-b7d010e4290e
END:VEVENT
END:VCALENDAR
