BEGIN:VCALENDAR
PRODID:-//github.com/rianjs/ical.net//NONSGML ical.net 4.0//EN
VERSION:2.0
BEGIN:VEVENT
DESCRIPTION:Details:\nhttps://bbyo.org/bbyo-near-you/regions/north-texas-o
 klahoma-region/tulsa-bbyo-8th-grade-overnight
DTEND:20240701T090000
DTSTAMP:20260425T182956Z
DTSTART:20240504T173000
LOCATION:Tulsa Oklahoma
SEQUENCE:0
SUMMARY:Tulsa BBYO 8th Grade Overnight
UID:92d94663-67ac-493a-8063-5256225656eb
END:VEVENT
END:VCALENDAR
